BEGIN:VCALENDAR
VERSION:2.0
PRODID:-//Pembroke Pines Country Club - ECPv6.15.20//NONSGML v1.0//EN
CALSCALE:GREGORIAN
METHOD:PUBLISH
X-WR-CALNAME:Pembroke Pines Country Club
X-ORIGINAL-URL:https://pembrokepinescc.com
X-WR-CALDESC:Events for Pembroke Pines Country Club
REFRESH-INTERVAL;VALUE=DURATION:PT1H
X-Robots-Tag:noindex
X-PUBLISHED-TTL:PT1H
BEGIN:VTIMEZONE
TZID:UTC
BEGIN:STANDARD
TZOFFSETFROM:+0000
TZOFFSETTO:+0000
TZNAME:UTC
DTSTART:20250101T000000
END:STANDARD
END:VTIMEZONE
BEGIN:VEVENT
DTSTART;VALUE=DATE:20260905
DTEND;VALUE=DATE:20260907
DTSTAMP:20260422T074237
CREATED:20250409T135435Z
LAST-MODIFIED:20260327T184316Z
UID:3832-1788566400-1788739199@pembrokepinescc.com
SUMMARY:Club Championship
DESCRIPTION:
URL:https://pembrokepinescc.com/events_calender/club-championship-2/
CATEGORIES:members
END:VEVENT
END:VCALENDAR