BEGIN:VCALENDAR
VERSION:2.0
PRODID:-//Pembroke Pines Country Club - ECPv6.15.20//NONSGML v1.0//EN
CALSCALE:GREGORIAN
METHOD:PUBLISH
X-ORIGINAL-URL:https://pembrokepinescc.com
X-WR-CALDESC:Events for Pembroke Pines Country Club
REFRESH-INTERVAL;VALUE=DURATION:PT1H
X-Robots-Tag:noindex
X-PUBLISHED-TTL:PT1H
BEGIN:VTIMEZONE
TZID:UTC
BEGIN:STANDARD
TZOFFSETFROM:+0000
TZOFFSETTO:+0000
TZNAME:UTC
DTSTART:20250101T000000
END:STANDARD
END:VTIMEZONE
BEGIN:VEVENT
DTSTART;TZID=UTC:20260424T183000
DTEND;TZID=UTC:20260424T203000
DTSTAMP:20260422T000432
CREATED:20260114T202546Z
LAST-MODIFIED:20260114T202546Z
UID:5084-1777055400-1777062600@pembrokepinescc.com
SUMMARY:Live Music | Tequila Jim
DESCRIPTION:Come join us for Live music at the 1759 Grille
URL:https://pembrokepinescc.com/events_calender/live-music-tequila-jim/
CATEGORIES:1759 Events
END:VEVENT
BEGIN:VEVENT
DTSTART;VALUE=DATE:20260425
DTEND;VALUE=DATE:20260426
DTSTAMP:20260422T000432
CREATED:20250409T134507Z
LAST-MODIFIED:20260407T170749Z
UID:3817-1777075200-1777161599@pembrokepinescc.com
SUMMARY:Opening Day Scramble
DESCRIPTION:Kick off the season with this fun\, team-based event. \nSign Up Here
URL:https://pembrokepinescc.com/events_calender/opening-day-scramble/
CATEGORIES:members
END:VEVENT
BEGIN:VEVENT
DTSTART;TZID=UTC:20260501T183000
DTEND;TZID=UTC:20260501T203000
DTSTAMP:20260422T000432
CREATED:20260114T201934Z
LAST-MODIFIED:20260114T201934Z
UID:5072-1777660200-1777667400@pembrokepinescc.com
SUMMARY:Live Music | Miles to Memphis
DESCRIPTION:Come join us for Live music at the 1759 Grille
URL:https://pembrokepinescc.com/events_calender/live-music-miles-to-memphis-3/
CATEGORIES:1759 Events
END:VEVENT
BEGIN:VEVENT
DTSTART;TZID=UTC:20260508T183000
DTEND;TZID=UTC:20260508T203000
DTSTAMP:20260422T000432
CREATED:20260114T202034Z
LAST-MODIFIED:20260114T202034Z
UID:5074-1778265000-1778272200@pembrokepinescc.com
SUMMARY:Live Music | Mikey G
DESCRIPTION:Come join us for Live music at the 1759 Grille
URL:https://pembrokepinescc.com/events_calender/live-music-mikey-g-3/
CATEGORIES:1759 Events
END:VEVENT
BEGIN:VEVENT
DTSTART;TZID=UTC:20260510T100000
DTEND;TZID=UTC:20260510T140000
DTSTAMP:20260422T000432
CREATED:20260416T141900Z
LAST-MODIFIED:20260416T142439Z
UID:5342-1778407200-1778421600@pembrokepinescc.com
SUMMARY:Mother's Day Brunch
DESCRIPTION:Mother’s Day Brunch \nSunday\, May 10\, 2026 \n10:00 AM – 2:00 PM \nTreat the most important woman in your life to a Mother’s Day she’ll never forget. Join us for an elegant brunch buffet at Pembroke Pines\, where stunning views of the course set the stage for a truly memorable celebration. From a made-to-order omelet station and sliced beef carving station to baked stuffed chicken\, New England baked haddock\, cheese tortellini\, fresh pastries\, and so much more\, our chefs have prepared a spread Mom will love. Pull up a chair\, raise a glass\, and make this Mother’s Day one for the books. \n\n\n$45\nAdults\n\n\n$16\nChildren\n\n\nFREE\n4 & Under
URL:https://pembrokepinescc.com/events_calender/mothers-day-brunch/
CATEGORIES:Events
END:VEVENT
BEGIN:VEVENT
DTSTART;VALUE=DATE:20260516
DTEND;VALUE=DATE:20260517
DTSTAMP:20260422T000432
CREATED:20250409T134633Z
LAST-MODIFIED:20260327T183837Z
UID:3819-1778889600-1778975999@pembrokepinescc.com
SUMMARY:Ladies 6-6-6
DESCRIPTION:
URL:https://pembrokepinescc.com/events_calender/ladies-6-6-6/
CATEGORIES:members
END:VEVENT
BEGIN:VEVENT
DTSTART;TZID=UTC:20260522T183000
DTEND;TZID=UTC:20260522T203000
DTSTAMP:20260422T000432
CREATED:20260114T202135Z
LAST-MODIFIED:20260114T202135Z
UID:5076-1779474600-1779481800@pembrokepinescc.com
SUMMARY:Live Music | Colin Nevins
DESCRIPTION:Come join us for Live music at the 1759 Grille
URL:https://pembrokepinescc.com/events_calender/live-music-colin-nevins-2/
CATEGORIES:1759 Events
END:VEVENT
BEGIN:VEVENT
DTSTART;TZID=UTC:20260529T183000
DTEND;TZID=UTC:20260529T203000
DTSTAMP:20260422T000432
CREATED:20260114T202225Z
LAST-MODIFIED:20260114T202225Z
UID:5078-1780079400-1780086600@pembrokepinescc.com
SUMMARY:Live Music | Andrea Paquin
DESCRIPTION:Come join us for Live music at the 1759 Grille
URL:https://pembrokepinescc.com/events_calender/live-music-andrea-paquin-2/
CATEGORIES:1759 Events
END:VEVENT
BEGIN:VEVENT
DTSTART;TZID=UTC:20260605T183000
DTEND;TZID=UTC:20260605T203000
DTSTAMP:20260422T000432
CREATED:20260114T202316Z
LAST-MODIFIED:20260114T202316Z
UID:5080-1780684200-1780691400@pembrokepinescc.com
SUMMARY:Live Music | Alan Roux
DESCRIPTION:Come join us for Live music at the 1759 Grille
URL:https://pembrokepinescc.com/events_calender/live-music-alan-roux-2/
CATEGORIES:1759 Events
END:VEVENT
BEGIN:VEVENT
DTSTART;TZID=UTC:20260619T183000
DTEND;TZID=UTC:20260619T203000
DTSTAMP:20260422T000432
CREATED:20260114T202403Z
LAST-MODIFIED:20260114T202403Z
UID:5082-1781893800-1781901000@pembrokepinescc.com
SUMMARY:Live Music | Tom Boise
DESCRIPTION:Come join us for Live music at the 1759 Grille
URL:https://pembrokepinescc.com/events_calender/live-music-tom-boise-2/
CATEGORIES:1759 Events
END:VEVENT
BEGIN:VEVENT
DTSTART;VALUE=DATE:20260620
DTEND;VALUE=DATE:20260621
DTSTAMP:20260422T000432
CREATED:20250409T134712Z
LAST-MODIFIED:20260327T184133Z
UID:3821-1781913600-1781999999@pembrokepinescc.com
SUMMARY:Ladies Member - Guest
DESCRIPTION:
URL:https://pembrokepinescc.com/events_calender/ladies-member-guest/
CATEGORIES:members
END:VEVENT
BEGIN:VEVENT
DTSTART;VALUE=DATE:20260711
DTEND;VALUE=DATE:20260713
DTSTAMP:20260422T000432
CREATED:20250409T134806Z
LAST-MODIFIED:20260327T184034Z
UID:3823-1783728000-1783900799@pembrokepinescc.com
SUMMARY:Men's Member - Guest
DESCRIPTION:
URL:https://pembrokepinescc.com/events_calender/mens-member-guest/
CATEGORIES:members
END:VEVENT
BEGIN:VEVENT
DTSTART;TZID=UTC:20260804T160000
DTEND;TZID=UTC:20260804T190000
DTSTAMP:20260422T000432
CREATED:20260319T191138Z
LAST-MODIFIED:20260413T141828Z
UID:5208-1785859200-1785870000@pembrokepinescc.com
SUMMARY:Salute to Service Day
DESCRIPTION:Military Appreciation Day\n\n  August 4\, 2026 |\n  4:00 – 7:00 PM\n\n\nGet up close with a Black Hawk UH-60M\, a UH-72 Lakota\, and a Pembroke Fire Truck right on the golf course and join us for a fun-filled afternoon celebrating the brave men and women who serve. \n\nLawn Games\nKids’ Putting Contest\nFace Painting\nClosest to the Pin Contest\n\nVeterans receive 10% off their meal — thank you for your service.
URL:https://pembrokepinescc.com/events_calender/heroes-helicopters-military-appreciation-day/
CATEGORIES:Events
END:VEVENT
BEGIN:VEVENT
DTSTART;VALUE=DATE:20260808
DTEND;VALUE=DATE:20260809
DTSTAMP:20260422T000432
CREATED:20250409T134843Z
LAST-MODIFIED:20260327T184642Z
UID:3825-1786147200-1786233599@pembrokepinescc.com
SUMMARY:Ladies Member - Member
DESCRIPTION:Ladies Member-Member Sign Up
URL:https://pembrokepinescc.com/events_calender/ladies-member-member/
CATEGORIES:members
END:VEVENT
BEGIN:VEVENT
DTSTART;VALUE=DATE:20260815
DTEND;VALUE=DATE:20260817
DTSTAMP:20260422T000432
CREATED:20250409T134928Z
LAST-MODIFIED:20260327T184544Z
UID:3827-1786752000-1786924799@pembrokepinescc.com
SUMMARY:Men's Member - Member
DESCRIPTION:
URL:https://pembrokepinescc.com/events_calender/mens-member-member/
CATEGORIES:members
END:VEVENT
BEGIN:VEVENT
DTSTART;VALUE=DATE:20260905
DTEND;VALUE=DATE:20260907
DTSTAMP:20260422T000432
CREATED:20250409T135435Z
LAST-MODIFIED:20260327T184316Z
UID:3832-1788566400-1788739199@pembrokepinescc.com
SUMMARY:Club Championship
DESCRIPTION:
URL:https://pembrokepinescc.com/events_calender/club-championship-2/
CATEGORIES:members
END:VEVENT
BEGIN:VEVENT
DTSTART;VALUE=DATE:20261003
DTEND;VALUE=DATE:20261005
DTSTAMP:20260422T000432
CREATED:20250409T135525Z
LAST-MODIFIED:20260327T184224Z
UID:3834-1790985600-1791158399@pembrokepinescc.com
SUMMARY:Ryder Cup
DESCRIPTION:
URL:https://pembrokepinescc.com/events_calender/ryder-cup/
CATEGORIES:Events
END:VEVENT
BEGIN:VEVENT
DTSTART;VALUE=DATE:20261010
DTEND;VALUE=DATE:20261011
DTSTAMP:20260422T000432
CREATED:20250409T135751Z
LAST-MODIFIED:20260327T183740Z
UID:3836-1791590400-1791676799@pembrokepinescc.com
SUMMARY:Member's 9/9
DESCRIPTION:
URL:https://pembrokepinescc.com/events_calender/members-9-9/
CATEGORIES:members
END:VEVENT
BEGIN:VEVENT
DTSTART;VALUE=DATE:20261101
DTEND;VALUE=DATE:20261102
DTSTAMP:20260422T000432
CREATED:20250409T135821Z
LAST-MODIFIED:20260327T184742Z
UID:3838-1793491200-1793577599@pembrokepinescc.com
SUMMARY:Turkey Shoot
DESCRIPTION:A festive fall event with turkey-themed prizes.\nSign up
URL:https://pembrokepinescc.com/events_calender/turkey-shoot-2/
CATEGORIES:members
END:VEVENT
BEGIN:VEVENT
DTSTART;VALUE=DATE:20261107
DTEND;VALUE=DATE:20261108
DTSTAMP:20260422T000432
CREATED:20250409T135849Z
LAST-MODIFIED:20260327T184443Z
UID:3840-1794009600-1794095999@pembrokepinescc.com
SUMMARY:Superintendents Revenge
DESCRIPTION:Face the course at its most challenging in this season-ending event.
URL:https://pembrokepinescc.com/events_calender/superintendents-revenge-2/
CATEGORIES:members
END:VEVENT
END:VCALENDAR